BEGIN:VCALENDAR
VERSION:2.0
PRODID:-//Kitsap Pride - ECPv6.15.17.1//NONSGML v1.0//EN
CALSCALE:GREGORIAN
METHOD:PUBLISH
X-ORIGINAL-URL:https://kitsappride.org
X-WR-CALDESC:Events for Kitsap Pride
REFRESH-INTERVAL;VALUE=DURATION:PT1H
X-Robots-Tag:noindex
X-PUBLISHED-TTL:PT1H
BEGIN:VTIMEZONE
TZID:America/Los_Angeles
BEGIN:DAYLIGHT
TZOFFSETFROM:-0800
TZOFFSETTO:-0700
TZNAME:PDT
DTSTART:20250309T100000
END:DAYLIGHT
BEGIN:STANDARD
TZOFFSETFROM:-0700
TZOFFSETTO:-0800
TZNAME:PST
DTSTART:20251102T090000
END:STANDARD
BEGIN:DAYLIGHT
TZOFFSETFROM:-0800
TZOFFSETTO:-0700
TZNAME:PDT
DTSTART:20260308T100000
END:DAYLIGHT
BEGIN:STANDARD
TZOFFSETFROM:-0700
TZOFFSETTO:-0800
TZNAME:PST
DTSTART:20261101T090000
END:STANDARD
BEGIN:DAYLIGHT
TZOFFSETFROM:-0800
TZOFFSETTO:-0700
TZNAME:PDT
DTSTART:20270314T100000
END:DAYLIGHT
BEGIN:STANDARD
TZOFFSETFROM:-0700
TZOFFSETTO:-0800
TZNAME:PST
DTSTART:20271107T090000
END:STANDARD
END:VTIMEZONE
BEGIN:VEVENT
DTSTART;TZID=America/Los_Angeles:20260423T190000
DTEND;TZID=America/Los_Angeles:20260423T203000
DTSTAMP:20260420T052406
CREATED:20260120T033415Z
LAST-MODIFIED:20260419T220428Z
UID:12609-1776970800-1776976200@kitsappride.org
SUMMARY:Queer & Trans Support Group
DESCRIPTION:Olympic College\, Bremerton Wa\n7:00 p.m. to 8:30 p.m.\nbuilding 4\, room 209\nCome and support each other\, and be supported\, as we work on peer-to-peer counseling and mental health education in our beautiful queer and trans communities. Bring arts and crafts or fidget toys\, and experience an environment of support ❤️🏳️‍🌈❤️🏳️‍⚧️❤️
URL:https://kitsappride.org/event/queer-trans-support-group-14/
LOCATION:Olympic College
CATEGORIES:Community Events
END:VEVENT
BEGIN:VEVENT
DTSTART;TZID=America/Los_Angeles:20260424T143000
DTEND;TZID=America/Los_Angeles:20260424T163000
DTSTAMP:20260420T052406
CREATED:20260309T195059Z
LAST-MODIFIED:20260419T213642Z
UID:13529-1777041000-1777048200@kitsappride.org
SUMMARY:KRL + Kitsap Pride Carving Group - TEENS
DESCRIPTION:Calling all LGBTQIA2S+ Artists and Allies. \nKitsap Regional Library and Kitsap Pride are partnering to participate in Wayzgoose Kitsap 2026. Join fellow artists and show off your skills in a queer friendly space. Carve a 3’x3′ linoleum block to be printed at the Wayzgoose Festival on June 6th\, 2026. No carving experience required and all supplies provided. \nRegistration is not required\, but appreciated for planning purposes. For ages 13-18. \nIn partnership with Kitsap Pride.
URL:https://kitsappride.org/event/krl-kitsap-pride-carving-group-teens-5/
LOCATION:Kitsap Regional Library\, 2 Sidney Ave\, Port Orchard\, WA\, United States
CATEGORIES:Pride Events
END:VEVENT
BEGIN:VEVENT
DTSTART;TZID=America/Los_Angeles:20260425T100000
DTEND;TZID=America/Los_Angeles:20260425T110000
DTSTAMP:20260420T052406
CREATED:20260120T034009Z
LAST-MODIFIED:20260122T194751Z
UID:12789-1777111200-1777114800@kitsappride.org
SUMMARY:Coffee with Pride
DESCRIPTION:
URL:https://kitsappride.org/event/coffee-with-pride-4/
CATEGORIES:Pride Events
END:VEVENT
BEGIN:VEVENT
DTSTART;TZID=America/Los_Angeles:20260425T100000
DTEND;TZID=America/Los_Angeles:20260425T110000
DTSTAMP:20260420T052406
CREATED:20260306T232140Z
LAST-MODIFIED:20260419T213643Z
UID:13310-1777111200-1777114800@kitsappride.org
SUMMARY:Coffee with Pride
DESCRIPTION:Sit down with us with a beverage\, a treat\, or just some good conversation! Learn about upcoming Pride events and how you can get involved. Questions email james@kitsappride.org.
URL:https://kitsappride.org/event/coffee-with-pride-28/
CATEGORIES:Pride Events
END:VEVENT
BEGIN:VEVENT
DTSTART;TZID=America/Los_Angeles:20260430T190000
DTEND;TZID=America/Los_Angeles:20260430T203000
DTSTAMP:20260420T052406
CREATED:20260120T033415Z
LAST-MODIFIED:20260419T220428Z
UID:12610-1777575600-1777581000@kitsappride.org
SUMMARY:Queer & Trans Support Group
DESCRIPTION:Olympic College\, Bremerton Wa\n7:00 p.m. to 8:30 p.m.\nbuilding 4\, room 209\nCome and support each other\, and be supported\, as we work on peer-to-peer counseling and mental health education in our beautiful queer and trans communities. Bring arts and crafts or fidget toys\, and experience an environment of support ❤️🏳️‍🌈❤️🏳️‍⚧️❤️
URL:https://kitsappride.org/event/queer-trans-support-group-15/
LOCATION:Olympic College
CATEGORIES:Community Events
END:VEVENT
END:VCALENDAR