BEGIN:VCALENDAR
VERSION:2.0
PRODID:-//Kitsap Pride - ECPv6.15.17.1//NONSGML v1.0//EN
CALSCALE:GREGORIAN
METHOD:PUBLISH
X-ORIGINAL-URL:https://kitsappride.org
X-WR-CALDESC:Events for Kitsap Pride
REFRESH-INTERVAL;VALUE=DURATION:PT1H
X-Robots-Tag:noindex
X-PUBLISHED-TTL:PT1H
BEGIN:VTIMEZONE
TZID:America/Los_Angeles
BEGIN:DAYLIGHT
TZOFFSETFROM:-0800
TZOFFSETTO:-0700
TZNAME:PDT
DTSTART:20250309T100000
END:DAYLIGHT
BEGIN:STANDARD
TZOFFSETFROM:-0700
TZOFFSETTO:-0800
TZNAME:PST
DTSTART:20251102T090000
END:STANDARD
BEGIN:DAYLIGHT
TZOFFSETFROM:-0800
TZOFFSETTO:-0700
TZNAME:PDT
DTSTART:20260308T100000
END:DAYLIGHT
BEGIN:STANDARD
TZOFFSETFROM:-0700
TZOFFSETTO:-0800
TZNAME:PST
DTSTART:20261101T090000
END:STANDARD
BEGIN:DAYLIGHT
TZOFFSETFROM:-0800
TZOFFSETTO:-0700
TZNAME:PDT
DTSTART:20270314T100000
END:DAYLIGHT
BEGIN:STANDARD
TZOFFSETFROM:-0700
TZOFFSETTO:-0800
TZNAME:PST
DTSTART:20271107T090000
END:STANDARD
END:VTIMEZONE
BEGIN:VEVENT
DTSTART;TZID=America/Los_Angeles:20260626T180000
DTEND;TZID=America/Los_Angeles:20260626T200000
DTSTAMP:20260424T043640
CREATED:20260309T195059Z
LAST-MODIFIED:20260423T222131Z
UID:13536-1782496800-1782504000@kitsappride.org
SUMMARY:Pride Night at the Fan Zone
DESCRIPTION:Festivities and C89.5 DJ fromm 6-8\, then the Pride Game on the big screens.
URL:https://kitsappride.org/event/pride-night-at-the-fan-zone/
LOCATION:Quincy Square\, 253 4th St\, Bremerton\, WA\, United States
CATEGORIES:Pride Events
END:VEVENT
END:VCALENDAR