BEGIN:VCALENDAR
VERSION:2.0
PRODID:-//Kitsap Pride - ECPv6.15.17.1//NONSGML v1.0//EN
CALSCALE:GREGORIAN
METHOD:PUBLISH
X-ORIGINAL-URL:https://kitsappride.org
X-WR-CALDESC:Events for Kitsap Pride
REFRESH-INTERVAL;VALUE=DURATION:PT1H
X-Robots-Tag:noindex
X-PUBLISHED-TTL:PT1H
BEGIN:VTIMEZONE
TZID:America/Los_Angeles
BEGIN:DAYLIGHT
TZOFFSETFROM:-0800
TZOFFSETTO:-0700
TZNAME:PDT
DTSTART:20250309T100000
END:DAYLIGHT
BEGIN:STANDARD
TZOFFSETFROM:-0700
TZOFFSETTO:-0800
TZNAME:PST
DTSTART:20251102T090000
END:STANDARD
BEGIN:DAYLIGHT
TZOFFSETFROM:-0800
TZOFFSETTO:-0700
TZNAME:PDT
DTSTART:20260308T100000
END:DAYLIGHT
BEGIN:STANDARD
TZOFFSETFROM:-0700
TZOFFSETTO:-0800
TZNAME:PST
DTSTART:20261101T090000
END:STANDARD
BEGIN:DAYLIGHT
TZOFFSETFROM:-0800
TZOFFSETTO:-0700
TZNAME:PDT
DTSTART:20270314T100000
END:DAYLIGHT
BEGIN:STANDARD
TZOFFSETFROM:-0700
TZOFFSETTO:-0800
TZNAME:PST
DTSTART:20271107T090000
END:STANDARD
END:VTIMEZONE
BEGIN:VEVENT
DTSTART;TZID=America/Los_Angeles:20260321T100000
DTEND;TZID=America/Los_Angeles:20260321T110000
DTSTAMP:20260420T031943
CREATED:20260306T232140Z
LAST-MODIFIED:20260316T194245Z
UID:13306-1774087200-1774090800@kitsappride.org
SUMMARY:Coffee with Pride
DESCRIPTION:Sit down with us with a beverage\, a treat\, or just some good conversation! Learn about upcoming Pride events and how you can get involved. Questions email james@kitsappride.org.
URL:https://kitsappride.org/event/coffee-with-pride-26/
LOCATION:Over the Moon Coffee Roasters\, 11229 NE State Hwy 104\, Kingston\, WA\, United States
CATEGORIES:Pride Events
END:VEVENT
BEGIN:VEVENT
DTSTART;TZID=America/Los_Angeles:20260321T180000
DTEND;TZID=America/Los_Angeles:20260321T210000
DTSTAMP:20260420T031943
CREATED:20260120T033415Z
LAST-MODIFIED:20260316T195802Z
UID:12600-1774116000-1774126800@kitsappride.org
SUMMARY:QTPOC Community Gathering
DESCRIPTION:Queer and Trans People of Color Meetup every 1st and 3rd Saturday. Masks Required and Provided.  \n \nYou’re welcome to bring snacks\, crafts\, games\, a friend\, or just yourself. And if childcare is a barrier\, bring kiddo along too. 💕 \nA safe space for us to Make Art\, Make Friends\, Eat Snacks\, Connect\, or just Simply Be Held.
URL:https://kitsappride.org/event/qtpoc-community-gathering-4/
LOCATION:People’s Exchange\, 639 N Callow Ave\, Bremerton\, WA\, United States
CATEGORIES:Community Events
END:VEVENT
END:VCALENDAR